BEGIN:VCALENDAR
VERSION:2.0
PRODID:-//Lily Tang Williams for Congress - ECPv6.2.9//NONSGML v1.0//EN
CALSCALE:GREGORIAN
METHOD:PUBLISH
X-ORIGINAL-URL:https://www.lilytangwilliams.com/congress
X-WR-CALDESC:Events for Lily Tang Williams for Congress
REFRESH-INTERVAL;VALUE=DURATION:PT1H
X-Robots-Tag:noindex
X-PUBLISHED-TTL:PT1H
BEGIN:VTIMEZONE
TZID:America/New_York
BEGIN:DAYLIGHT
TZOFFSETFROM:-0500
TZOFFSETTO:-0400
TZNAME:EDT
DTSTART:20250309T070000
END:DAYLIGHT
BEGIN:STANDARD
TZOFFSETFROM:-0400
TZOFFSETTO:-0500
TZNAME:EST
DTSTART:20251102T060000
END:STANDARD
END:VTIMEZONE
BEGIN:VEVENT
DTSTART;TZID=America/New_York:20250828T170000
DTEND;TZID=America/New_York:20250901T170000
DTSTAMP:20260423T121923
CREATED:20250815T005215Z
LAST-MODIFIED:20250815T005215Z
UID:1184-1756400400-1756746000@www.lilytangwilliams.com
SUMMARY:Hopkinton Fair
DESCRIPTION:Welcome to the Hopkinton State Fair\, New Hampshire’s premier family-friendly event\, celebrating the best of agriculture\, entertainment\, and community spirit. Join us for an unforgettable experience filled with thrilling Midway rides\, live music\, delicious food\, and exciting competitions like the Demolition Derby Grandstand Show. Explore our rich history\, discover local artisans\, and enjoy a variety of attractions for all ages\, including world-famous performances by Disc Dogs. Whether you’re a first-time visitor or a returning fan\, the Hopkinton State Fair offers something for everyone. Plan your visit today\, buy your tickets online\, and be part of this time-honored tradition that has brought joy to generations.
URL:https://www.lilytangwilliams.com/congress/event/hopkinton-fair/
CATEGORIES:Events
END:VEVENT
BEGIN:VEVENT
DTSTART;TZID=America/New_York:20250901T130000
DTEND;TZID=America/New_York:20250901T170000
DTSTAMP:20260423T121923
CREATED:20250812T015631Z
LAST-MODIFIED:20250812T015631Z
UID:1182-1756731600-1756746000@www.lilytangwilliams.com
SUMMARY:Milford Labor Day Parade
DESCRIPTION:Milford Labor Day Parade\n\n\n\n\n\n\n\nMilford’s annual Labor Day Parade has been a long standing tradition for years. Floats\, bands\, antique cars and more. Be a part of the tradition.
URL:https://www.lilytangwilliams.com/congress/event/milford-labor-day-parade/
CATEGORIES:Events
END:VEVENT
BEGIN:VEVENT
DTSTART;TZID=America/New_York:20250901T150000
DTEND;TZID=America/New_York:20250901T180000
DTSTAMP:20260423T121923
CREATED:20250722T220637Z
LAST-MODIFIED:20250722T220637Z
UID:1166-1756738800-1756749600@www.lilytangwilliams.com
SUMMARY:Salem’s Annual Republican Sept. 1\, Labor Day Picnic
DESCRIPTION:The Salem Republican Town Committee will host our annual Labor Day Picnic on Monday\, September 1st.\nJoin us for an old-fashioned cookout that is free and open to all Republicans and unaffiliated voters. Hot dogs\, Hamburgers\, Corn from Peter’s Farm\, Watermelon\, and soft drinks will be served.\nThis is a great opportunity to meet with State and Federal candidates and like-minded activists.\nThere is plenty of shelter so this event will happen rain or shine.\nThis is our annual fundraiser. We will be collecting donations and they will be accepted in any amount.
URL:https://www.lilytangwilliams.com/congress/event/salems-annual-republican-sept-1-labor-day-picnic/
CATEGORIES:Events
END:VEVENT
END:VCALENDAR