BEGIN:VCALENDAR
VERSION:2.0
PRODID:-//Lily Tang Williams for Congress - ECPv6.2.9//NONSGML v1.0//EN
CALSCALE:GREGORIAN
METHOD:PUBLISH
X-WR-CALNAME:Lily Tang Williams for Congress
X-ORIGINAL-URL:https://www.lilytangwilliams.com/congress
X-WR-CALDESC:Events for Lily Tang Williams for Congress
REFRESH-INTERVAL;VALUE=DURATION:PT1H
X-Robots-Tag:noindex
X-PUBLISHED-TTL:PT1H
BEGIN:VTIMEZONE
TZID:America/New_York
BEGIN:DAYLIGHT
TZOFFSETFROM:-0500
TZOFFSETTO:-0400
TZNAME:EDT
DTSTART:20230312T070000
END:DAYLIGHT
BEGIN:STANDARD
TZOFFSETFROM:-0400
TZOFFSETTO:-0500
TZNAME:EST
DTSTART:20231105T060000
END:STANDARD
END:VTIMEZONE
BEGIN:VEVENT
DTSTART;TZID=America/New_York:20231209T110000
DTEND;TZID=America/New_York:20231209T130000
DTSTAMP:20260421T055955
CREATED:20231206T193513Z
LAST-MODIFIED:20231206T193625Z
UID:494-1702119600-1702126800@www.lilytangwilliams.com
SUMMARY:Speaking at HCRC (The Hillsborough County Republican Committee )
DESCRIPTION:12/9 speaking at HCRC at 11am\, Buck Meadow Recreation\, Amherst \nHCRC to MEET – DECEMBER 9\, 2023 \nThe Hillsborough County Republican Committee will meet on December 9\, 2023 at 10:30 AM at the Buckmeadow Golf Course\, 30 State Route 101a\, Amherst\, NH 03031-2731.\n— \nNote: This is a Private Meeting of HCRC\, Republicans and Invited Guests Only. No video or audio taping without Chair permission; Sign-in for attendance.
URL:https://www.lilytangwilliams.com/congress/event/speaking-at-hcrc-the-hillsborough-county-republican-committee/
CATEGORIES:Events
END:VEVENT
BEGIN:VEVENT
DTSTART;TZID=America/New_York:20231213T080000
DTEND;TZID=America/New_York:20231213T090000
DTSTAMP:20260421T055955
CREATED:20231206T193905Z
LAST-MODIFIED:20231206T193909Z
UID:495-1702454400-1702458000@www.lilytangwilliams.com
SUMMARY:Speaking at Center Right (Invitation only)
DESCRIPTION:12/13 speaking at Center Right 8am – 9am (by invite)
URL:https://www.lilytangwilliams.com/congress/event/speaking-at-center-right-invitation-only/
CATEGORIES:Events
END:VEVENT
BEGIN:VEVENT
DTSTART;TZID=America/New_York:20231216T110000
DTEND;TZID=America/New_York:20231216T120000
DTSTAMP:20260421T055955
CREATED:20231206T194848Z
LAST-MODIFIED:20231206T194915Z
UID:496-1702724400-1702728000@www.lilytangwilliams.com
SUMMARY:Speaking at Hudson Rodgers Memorial Library (non-partisan/non-campaign)
DESCRIPTION:12/16 speaking at Hudson Public Library from 11am to 12pm \n194 Derry Rd | Hudson\, NH 03051 \n\nPhone: (603) 886-6030\nFax: (603) 816-4501\n\nThis is a non-partisan educational kid friendly event.  No campaign activiities or materials. \nIf you would like to hear Lily speak about growing up in China\, please come.
URL:https://www.lilytangwilliams.com/congress/event/speaking-at-hudson-rodgers-memorial-library-non-partisan-non-campaign/
CATEGORIES:Events
END:VEVENT
BEGIN:VEVENT
DTSTART;TZID=America/New_York:20231228T130000
DTEND;TZID=America/New_York:20231228T160000
DTSTAMP:20260421T055955
CREATED:20231225T233901Z
LAST-MODIFIED:20231225T233908Z
UID:513-1703768400-1703779200@www.lilytangwilliams.com
SUMMARY:Campaign Fundraiser for Lily Tang Williams
DESCRIPTION:
URL:https://www.lilytangwilliams.com/congress/event/campaign-fundraiser-for-lily-tang-williams/
CATEGORIES:Events
END:VEVENT
END:VCALENDAR